Workbook

Sheet PODSUMOWANIE
A1: ZAŁĄCZNIK NR 2
A2: WYKAZ ASORTYMENOWO – CENOWY
A3: PODSUMOWANIE OFERTY
A4: LP. | B4: NR ZADANIA | C4: NAZWA | D4: SZACOWANA KWOTA ZAMÓWIENIA | E4: CENA OFERTOWA BRUTTO (W PLN) | F4: CENA OFERTOWA BRUTTO (W PLN) | G4: OFEROWANY CZAS DOSTAWY W DNIACH
A5: 1. | B5: ZADANIE 1 | C5: IGŁY, STRZYKAWKI, WENFLONY | D5: 4550 | E5: ='ZADANIE 1'!E28 -> 0 | F5: =IF(E5<>0,E5,"X") -> X
A6: 2. | B6: ZADANIE 2 | C6: MATERIAŁY SZEWNE W SZCZEGÓLNOŚCI NICI CHIRURGICZNE | D6: 1000 | E6: ='ZADANIE 2'!E20 -> 0 | F6: =IF(E6<>0,E6,"X") -> X
A7: 3. | B7: ZADANIE 3 | C7: OBŁOŻENIA I PODKŁADY JEDNORAZOWE, W SZCZEGÓLNOŚCI ZESTAWY | D7: 3850 | E7: ='ZADANIE 3'!E12 -> 0 | F7: =IF(E7<>0,E7,"X") -> X
A8: 4. | B8: ZADANIE 4 | C8: BIELIZNA I POŚCIEL JEDNORAZOWA | D8: 1000 | E8: ='ZADANIE 4'!E8 -> 0 | F8: =IF(E8<>0,E8,"X") -> X
A9: 5. | B9: ZADANIE 5 | C9: ODZIEŻ OCHRONNA JEDNORAZOWA | D9: 4100 | E9: ='ZADANIE 5'!E13 -> 0 | F9: =IF(E9<>0,E9,"X") -> X
A10: 6. | B10: ZADANIE 6 | C10: RĘKAWICE JEDNORAZOWE | D10: 25100 | E10: ='ZADANIE 6'!E22 -> 0 | F10: =IF(E10<>0,E10,"X") -> X
A11: 7. | B11: ZADANIE 7 | C11: ŚRODKI OPATRUNKOWE | D11: 8050 | E11: ='ZADANIE 7'!E43 -> 0 | F11: =IF(E11<>0,E11,"X") -> X
A12: 8. | B12: ZADANIE 8 | C12: ŚRODKI DEZYNFEKCYJNE | D12: 4850 | E12: ='ZADANIE 8'!E20 -> 0 | F12: =IF(E12<>0,E12,"X") -> X
A13: 9. | B13: ZADANIE 9 | C13: POZOSTAŁE MATERIAŁY MEDYCZNE DO BADAŃ DIAGNOSTYCZNYCH | D13: 19800 | E13: ='ZADANIE 9'!E23 -> 0 | F13: =IF(E13<>0,E13,"X") -> X
A14: 10. | B14: ZADANIE 10 | C14: POZOSTAŁY JEDNORAZOWY SPRZĘT I MATERIAŁY MEDYCZNE | D14: 7400 | E14: ='ZADANIE 10'!E41 -> 0 | F14: =IF(E14<>0,E14,"X") -> X
A15: Podany asortyment oraz szacowana kwota są danymi planowanymi przez Zamawiającego na 12 miesięcy

Sheet ZADANIE 1
A1: ZAŁĄCZNIK NR 2
A2: WYKAZ ASORTYMENOWO – CENOWY
A3: ZADANIE 1 IGŁY, STRZYKAWKI, WENFLONY
A4: SZACOWANA KWOTA ZAMÓWIENIA: | H4: =PODSUMOWANIE!D5 -> 4550
A5: LP. | B5: TOWAR | C5: ILOŚĆ | D5: JEDN. | E5: CENA OFERTOWA BRUTTO (W PLN) | F5: CENA OFERTOWA NETTO (W PLN) | G5: PODATEK VAT W % | H5: UWAGI
A6: 1. | B6: Igły BD 5 cm - 25 mm - 100szt. | C6: 1 | D6: opakowań | E6: =F6*C6*(1+G6) -> 0
A7: 2. | B7: Igły BD 5 cm - 40 mm - 100szt. | C7: 1 | D7: opakowań | E7: =F7*C7*(1+G7) -> 0
A8: 3. | B8: Igły BD 6 cm - 25 mm - 100szt. | C8: 1 | D8: opakowań | E8: =F8*C8*(1+G8) -> 0
A9: 4. | B9: Igły BD 6 cm - 40 mm - 100szt. | C9: 1 | D9: opakowań | E9: =F9*C9*(1+G9) -> 0
A10: 5. | B10: Igły BD 7 cm - 25 mm - 100szt. | C10: 1 | D10: opakowań | E10: =F10*C10*(1+G10) -> 0
A11: 6. | B11: Igły BD 7 cm - 40 mm - 100szt. | C11: 1 | D11: opakowań | E11: =F11*C11*(1+G11) -> 0
A12: 7. | B12: Igły BD 8 cm - 25 mm - 100szt. | C12: 1 | D12: opakowań | E12: =F12*C12*(1+G12) -> 0
A13: 8. | B13: Igły BD 8 cm - 40 mm - 100szt. | C13: 1 | D13: opakowań | E13: =F13*C13*(1+G13) -> 0
A14: 9. | B14: Igły BD 9 cm - 25 mm - 100szt. | C14: 1 | D14: opakowań | E14: =F14*C14*(1+G14) -> 0
A15: 10. | B15: Igły BD 9 cm - 40 mm - 100szt. | C15: 1 | D15: opakowań | E15: =F15*C15*(1+G15) -> 0
A16: 11. | B16: Igły BD 12 cm - 40 mm 100 szt. | C16: 1 | D16: opakowań | E16: =F16*C16*(1+G16) -> 0
A17: 12. | B17: Motylki niebieskie | C17: 1 | D17: sztuk | E17: =F17*C17*(1+G17) -> 0
... A27: 22. | B27: Wenflony żółte | C27: 1 | D27: sztuk | E27: =F27*C27*(1+G27) -> 0
A28: SUMA | C28: =SUM(C6:C27) -> 22 | E28: =SUM(E6:E27) -> 0 | F28: =SUM(F6:F27) -> 0
A29: Podany asortyment oraz szacowana kwota są danymi planowanymi przez Zamawiającego na 12 miesięcy

Sheet ZADANIE 2
A1: ZAŁĄCZNIK NR 2
A2: WYKAZ ASORTYMENOWO – CENOWY
A3: ZADANIE 2 MATERIAŁY SZEWNE W SZCZEGÓLNOŚCI NICI CHIRURGICZNE
A4: SZACOWANA KWOTA ZAMÓWIENIA: | H4: =PODSUMOWANIE!D6 -> 1000
A5: LP. | B5: TOWAR | C5: ILOŚĆ | D5: JEDN. | E5: CENA OFERTOWA BRUTTO (W PLN) | F5: CENA OFERTOWA NETTO (W PLN) | G5: PODATEK VAT W % | H5: UWAGI
A6: 1. | B6: Nici chirurgiczne AMFIL 2-0 3/8 koła 19 mm | C6: 1 | D6: opakowań | E6: =F6*C6*(1+G6) -> 0
A7: 2. | B7: Nici chirurgiczne AMFIL 2-0 3/8 koła 24 mm | C7: 1 | D7: opakowań | E7: =F7*C7*(1+G7) -> 0
A8: 3. | B8: Nici chirurgiczne AMFIL 3-0 3/8 koła 19mm CE-4 | C8: 1 | D8: opakowań | E8: =F8*C8*(1+G8) -> 0
A9: 4. | B9: Nici chirurgiczne AMFIL 3-0 3/8 koła 24mm CE-6 | C9: 1 | D9: opakowań | E9: =F9*C9*(1+G9) -> 0
A10: 5. | B10: Nici chirurgiczne AMFIL 4-0 3/8 koła 19mm | C10: 1 | D10: opakowań | E10: =F10*C10*(1+G10) -> 0
A11: 6. | B11: Nici chirurgiczne AMFIL 4-0 3/8 koła 24mm | C11: 1 | D11: opakowań | E11: =F11*C11*(1+G11) -> 0
A12: 7. | B12: Nici chirurgiczne AMFIL 5-0 3/8 koła 24mm | C12: 1 | D12: opakowań | E12: =F12*C12*(1+G12) -> 0
A13: 8. | B13: Nici chirurgiczne niebieskie SAFIL 3/0 HR 19 mm 3/8 koła | C13: 1 | D13: opakowań | E13: =F13*C13*(1+G13) -> 0
A14: 9. | B14: Nici chirurgiczne niebieskie SAFIL 3/0 HR 24 mm 3/8 koła | C14: 1 | D14: opakowań | E14: =F14*C14*(1+G14) -> 0
A15: 10. | B15: Nici chirurgiczne niebieskie SAFIL 4/0 HR 19 mm 3/8 koła | C15: 1 | D15: opakowań | E15: =F15*C15*(1+G15) -> 0
A16: 11. | B16: Nici chirurgiczne niebieskie SAFIL 4/0 HR 24 mm 3/8 koła | C16: 1 | D16: opakowań | E16: =F16*C16*(1+G16) -> 0
A17: 12. | B17: Nici chirurgiczne wchłanialne SAFIL fioletowe 2/0 HR 22 mm 1/2 koła | C17: 1 | D17: opakowań | E17: =F17*C17*(1+G17) -> 0
... A19: 14. | B19: Nici Suatres NYLON "O" niewchłanialne zielone 3/8 koła 24 mm | C19: 1 | D19: opakowań | E19: =F19*C19*(1+G19) -> 0
A20: SUMA | C20: =SUM(C6:C19) -> 14 | E20: =SUM(E6:E19) -> 0 | F20: =SUM(F6:F19) -> 0
A21: Podany asortyment oraz szacowana kwota są danymi planowanymi przez Zamawiającego na 12 miesięcy

Sheet ZADANIE 3
A1: ZAŁĄCZNIK NR 2
A2: WYKAZ ASORTYMENOWO – CENOWY
A3: ZADANIE 3 OBŁOŻENIA I PODKŁADY JEDNORAZOWE, W SZCZEGÓLNOŚCI ZESTAWY
A4: SZACOWANA KWOTA ZAMÓWIENIA: | H4: =PODSUMOWANIE!D7 -> 3850
A5: LP. | B5: TOWAR | C5: ILOŚĆ | D5: JEDN. | E5: CENA OFERTOWA BRUTTO (W PLN) | F5: CENA OFERTOWA NETTO (W PLN) | G5: PODATEK VAT W % | H5: UWAGI
A6: 1. | B6: Podkład celulozowy w rolkach 39 cm | C6: 1 | D6: rolek | E6: =F6*C6*(1+G6) -> 0
A7: 2. | B7: Podkład celulozowy w rolkach 50 cm | C7: 1 | D7: rolek | E7: =F7*C7*(1+G7) -> 0
A8: 3. | B8: Podkład w rolkach Medix Pro 33 | C8: 1 | D8: rolek | E8: =F8*C8*(1+G8) -> 0
A9: 4. | B9: Serwety operacyjne jałowe bez otworu 50 x 60 | C9: 1 | D9: sztuk | E9: =F9*C9*(1+G9) -> 0
A10: 5. | B10: Serwety operacyjne z okrągłym przylepnym otworem ALPHAtex nr ref AT-NFFA 5.1 45 cm x 45 cm | C10: 1 | D10: sztuk | E10: =F10*C10*(1+G10) -> 0
A11: 6. | B11: Serwetyoperacyjna jałowa bez otworu 45 x 45 | C11: 1 | D11: sztuk | E11: =F11*C11*(1+G11) -> 0
A12: SUMA | C12: =SUM(C6:C11) -> 6 | E12: =SUM(E6:E11) -> 0 | F12: =SUM(F6:F11) -> 0
A13: Podany asortyment oraz szacowana kwota są danymi planowanymi przez Zamawiającego na 12 miesięcy

Sheet ZADANIE 4
A1: ZAŁĄCZNIK NR 2
A2: WYKAZ ASORTYMENOWO – CENOWY
A3: ZADANIE 4 BIELIZNA I POŚCIEL JEDNORAZOWA
A4: SZACOWANA KWOTA ZAMÓWIENIA: | H4: =PODSUMOWANIE!D8 -> 1000
A5: LP. | B5: TOWAR | C5: ILOŚĆ | D5: JEDN. | E5: CENA OFERTOWA BRUTTO (W PLN) | F5: CENA OFERTOWA NETTO (W PLN) | G5: PODATEK VAT W % | H5: UWAGI
A6: 1. | B6: Prześcieradła jedn. Zielone 100 x 200 - 10szt. | C6: 1 | D6: opakowanie | E6: =F6*C6*(1+G6) -> 0
A7: 2. | B7: Zestaw jednorazowy SPÓDNICZKA + KLAPKI | C7: 1 | D7: sztuk | E7: =F7*C7*(1+G7) -> 0
A8: SUMA | C8: =SUM(C6:C7) -> 2 | E8: =SUM(E6:E7) -> 0 | F8: =SUM(F6:F7) -> 0
A9: Podany asortyment oraz szacowana kwota są danymi planowanymi przez Zamawiającego na 12 miesięcy

Sheet ZADANIE 5
A1: ZAŁĄCZNIK NR 2
A2: WYKAZ ASORTYMENOWO – CENOWY
A3: ZADANIE 5 ODZIEŻ OCHRONNA JEDNORAZOWA
A4: SZACOWANA KWOTA ZAMÓWIENIA: | H4: =PODSUMOWANIE!D9 -> 4100
A5: LP. | B5: TOWAR | C5: ILOŚĆ | D5: JEDN. | E5: CENA OFERTOWA BRUTTO (W PLN) | F5: CENA OFERTOWA NETTO (W PLN) | G5: PODATEK VAT W % | H5: UWAGI
A6: 1. | B6: Fartuch jednorazowy włókninowy | C6: 1 | D6: sztuk | E6: =F6*C6*(1+G6) -> 0
A7: 2. | B7: Fartuchy foliowe | C7: 1 | D7: sztuk | E7: =F7*C7*(1+G7) -> 0
A8: 3. | B8: Kombinezony włóknione | C8: 1 | D8: sztuk | E8: =F8*C8*(1+G8) -> 0
A9: 4. | B9: Kombinezony z certyfikatem biobójczym | C9: 1 | D9: sztuk | E9: =F9*C9*(1+G9) -> 0
A10: 5. | B10: Maseczki jednorazowe opakowanie 50 sztuk | C10: 1 | D10: opakowanie | E10: =F10*C10*(1+G10) -> 0
A11: 6. | B11: Maseczki ochronne FFP2 | C11: 1 | D11: sztuk | E11: =F11*C11*(1+G11) -> 0
A12: 7. | B12: Maseczki ochronne FFP3 | C12: 1 | D12: sztuk | E12: =F12*C12*(1+G12) -> 0
A13: SUMA | C13: =SUM(C6:C12) -> 7 | E13: =SUM(E11:E12) -> 0 | F13: =SUM(F11:F12) -> 0
A14: Podany asortyment oraz szacowana kwota są danymi planowanymi przez Zamawiającego na 12 miesięcy

Sheet ZADANIE 6
A1: ZAŁĄCZNIK NR 2
A2: WYKAZ ASORTYMENOWO – CENOWY
A3: ZADANIE 6 RĘKAWICE JEDNORAZOWE
A4: SZACOWANA KWOTA ZAMÓWIENIA: | H4: =PODSUMOWANIE!D10 -> 25100
A5: LP. | B5: TOWAR | C5: ILOŚĆ | D5: JEDN. | E5: CENA OFERTOWA BRUTTO (W PLN) | F5: CENA OFERTOWA NETTO (W PLN) | G5: PODATEK VAT W % | H5: UWAGI
A6: 1. | B6: Rękawiczki MAX FORTIS PF bezpudorwe sterylne rozm. 8 (L) | C6: 1 | D6: sztuk | E6: =F6*C6*(1+G6) -> 0
A7: 2. | B7: Rękawiczki nitrylowe L 200 szt. | C7: 1 | D7: opakowań | E7: =F7*C7*(1+G7) -> 0
A8: 3. | B8: Rękawiczki nitrylowe M 200 szt. | C8: 1 | D8: opakowań | E8: =F8*C8*(1+G8) -> 0
A9: 4. | B9: Rękawiczki nitrylowe S 200 szt. | C9: 1 | D9: opakowań | E9: =F9*C9*(1+G9) -> 0
A10: 5. | B10: Rękawiczki nitrylowe XL 200 szt. | C10: 1 | D10: opakowań | E10: =F10*C10*(1+G10) -> 0
A11: 6. | B11: Rękawiczki Peha-soft nitrile - nitrylowe bezpudorwe sterylne rozm. L | C11: 1 | D11: sztuk | E11: =F11*C11*(1+G11) -> 0
A12: 7. | B12: Rękawiczki Peha-soft nitrile - nitrylowe bezpudorwe sterylne rozm. XL | C12: 1 | D12: sztuk | E12: =F12*C12*(1+G12) -> 0
A13: 8. | B13: Rękawiczki pudrowe L 200 szt. | C13: 1 | D13: opakowań | E13: =F13*C13*(1+G13) -> 0
A14: 9. | B14: Rękawiczki pudrowe M 200 szt. | C14: 1 | D14: opakowań | E14: =F14*C14*(1+G14) -> 0
A15: 10. | B15: Rękawiczki pudrowe S 200 szt. | C15: 1 | D15: opakowań | E15: =F15*C15*(1+G15) -> 0
A16: 11. | B16: Rękawiczki sterylne bezpudrowe Nr7 | C16: 1 | D16: sztuk | E16: =F16*C16*(1+G16) -> 0
A17: 12. | B17: Rękawiczki sterylne bezpudrowe Nr7.5 | C17: 1 | D17: sztuk | E17: =F17*C17*(1+G17) -> 0
... A21: 16. | B21: Rękawiczki sterylne ProFeel Nr 8 nitrylowe bezpudrowe sterylne | C21: 1 | D21: sztuk | E21: =F21*C21*(1+G21) -> 0
A22: SUMA | C22: =SUM(C6:C21) -> 16 | E22: =SUM(E6:E21) -> 0 | F22: =SUM(F6:F21) -> 0
A23: Podany asortyment oraz szacowana kwota są danymi planowanymi przez Zamawiającego na 12 miesięcy

Sheet ZADANIE 7
A1: ZAŁĄCZNIK NR 2
A2: WYKAZ ASORTYMENOWO – CENOWY
A3: ZADANIE 7 ŚRODKI OPATRUNKOWE
A4: SZACOWANA KWOTA ZAMÓWIENIA: | H4: =PODSUMOWANIE!D11 -> 8050
A5: LP. | B5: TOWAR | C5: ILOŚĆ | D5: JEDN. | E5: CENA OFERTOWA BRUTTO (W PLN) | F5: CENA OFERTOWA NETTO (W PLN) | G5: PODATEK VAT W % | H5: UWAGI
A6: 1. | B6: Aluminiowa szyna palcowa 460x13 | C6: 1 | D6: sztuk | E6: =F6*C6*(1+G6) -> 0
A7: 2. | B7: Aluminiowa szyna palcowa 460x20 | C7: 1 | D7: sztuk | E7: =F7*C7*(1+G7) -> 0
A8: 3. | B8: Bactigras, 10 cm x 10 cm, opatrunek parafinowy, jałowy, 10 szt | C8: 1 | D8: sztuk | E8: =F8*C8*(1+G8) -> 0
A9: 4. | B9: Bactigras, 15 cm x 20 cm, opatrunek parafinowy, jałowy, 10 szt | C9: 1 | D9: sztuk | E9: =F9*C9*(1+G9) -> 0
A10: 5. | B10: Bandaże 10 cm | C10: 1 | D10: sztuk | E10: =F10*C10*(1+G10) -> 0
A11: 6. | B11: Bandaże 15 cm | C11: 1 | D11: sztuk | E11: =F11*C11*(1+G11) -> 0
A12: 7. | B12: Bandaże 5 cm | C12: 1 | D12: sztuk | E12: =F12*C12*(1+G12) -> 0
A13: 8. | B13: Chusty trójkątne | C13: 1 | D13: sztuk | E13: =F13*C13*(1+G13) -> 0
A14: 9. | B14: Codofix 10 (elastyczne siatki opatrunkowe) | C14: 1 | D14: sztuk | E14: =F14*C14*(1+G14) -> 0
A15: 10. | B15: Codofix 8 | C15: 1 | D15: sztuk | E15: =F15*C15*(1+G15) -> 0
A16: 11. | B16: Gaza | C16: 1 | D16: sztuk | E16: =F16*C16*(1+G16) -> 0
A17: 12. | B17: Kompresy jałowe 5 x 5 | C17: 1 | D17: sztuk | E17: =F17*C17*(1+G17) -> 0
... A28: 23. | B28: Opatrunki gipsowe 14 cm SAFIX PLUS | C28: 1 | D28: karton | E28: =F28*C28*(1+G28) -> 0
A29: 24. | B29: Opatrunki gipsowe 10 cm SAFIX PLUS
A30: 25. | B30: Plaster na kółku | C30: 1 | D30: sztuk | E30: =F30*C30*(1+G30) -> 0
A31: 26. | B31: Plaster szeroki MEDIPORE 10cm x 10m | C31: 1 | D31: opakowań | E31: =F31*C31*(1+G31) -> 0
A32: 27. | B32: Plaster z opatrunkiem 1m x 6cm | C32: 1 | D32: sztuk | E32: =F32*C32*(1+G32) -> 0
A33: 28. | B33: Plastry do mocowania wenflonów 50 szt | C33: 1 | D33: opakowań | E33: =F33*C33*(1+G33) -> 0
A34: 29. | B34: Podkład podgipsowy 10cm | C34: 1 | D34: opakowań | E34: =F34*C34*(1+G34) -> 0
A35: 30. | B35: Podkład podgipsowy 15cm | C35: 1 | D35: opakowań | E35: =F35*C35*(1+G35) -> 0
A36: 31. | B36: Przylepiec tkaninowy Polovis Plus | C36: 1 | D36: sztuk | E36: =F36*C36*(1+G36) -> 0
A37: 32. | B37: Przylepiec włókninowy Viscoplast 25mm x 5m do cięcia (PRESTOPOR) | C37: 1 | D37: sztuk | E37: =F37*C37*(1+G37) -> 0
A38: 33. | B38: Przylepiec włókninowy Viscoplast 60mm x 5m do cięcia (PRESTOPOR) | C38: 1 | D38: sztuk | E38: =F38*C38*(1+G38) -> 0
A39: 34. | B39: Spongostan Standard (5cm x 7cm x1cm) 1szt. | C39: 1 | D39: sztuk | E39: =F39*C39*(1+G39) -> 0
A40: 35. | B40: Steri- STRIP szer 6mm x 75mm | C40: 1 | D40: opakowanie | E40: =F40*C40*(1+G40) -> 0
A41: 36. | B41: Viscoplast Polopor 12,5mm x 5m | C41: 1 | D41: sztuk | E41: =F41*C41*(1+G41) -> 0
A42: 37. | B42: Viscoplast Polopor 25mm x 5m | C42: 1 | D42: sztuk | E42: =F42*C42*(1+G42) -> 0
A43: SUMA | C43: =SUM(C6:C42) -> 36 | E43: =SUM(E6:E42) -> 0 | F43: =SUM(F6:F42) -> 0
A44: Podany asortyment oraz szacowana kwota są danymi planowanymi przez Zamawiającego na 12 miesięcy

Sheet ZADANIE 8
A1: ZAŁĄCZNIK NR 2
A2: WYKAZ ASORTYMENOWO – CENOWY
A3: ZADANIE 8 ŚRODKI DEZYNFEKCYJNE
A4: SZACOWANA KWOTA ZAMÓWIENIA: | H4: =PODSUMOWANIE!D12 -> 4850
A5: LP. | B5: TOWAR | C5: ILOŚĆ | D5: JEDN. | E5: CENA OFERTOWA BRUTTO (W PLN) | F5: CENA OFERTOWA NETTO (W PLN) | G5: PODATEK VAT W % | H5: UWAGI
A6: 1. | B6: Aniosyne DD1 1l | C6: 1 | D6: sztuk | E6: =F6*C6*(1+G6) -> 0
A7: 2. | B7: Chusteczki do dezynfekcji i czyszczenia wyrobów medycznych (MIKROZID sensitive) | C7: 1 | D7: sztuk | E7: =F7*C7*(1+G7) -> 0
A8: 3. | B8: Octenisept 1l | C8: 1 | D8: sztuk | E8: =F8*C8*(1+G8) -> 0
A9: 4. | B9: Octenisept 250 ml | C9: 1 | D9: sztuk | E9: =F9*C9*(1+G9) -> 0
A10: 5. | B10: Płyn Icidin Liquid Spray 1l | C10: 1 | D10: sztuk | E10: =F10*C10*(1+G10) -> 0
A11: 6. | B11: Skinsept 1l | C11: 1 | D11: opawkowań | E11: =F11*C11*(1+G11) -> 0
A12: 7. | B12: Skinsept 250 ml | C12: 1 | D12: sztuk | E12: =F12*C12*(1+G12) -> 0
A13: 8. | B13: Skinsept 5l | C13: 1 | D13: opakowanie | E13: =F13*C13*(1+G13) -> 0
A14: 9. | B14: Skinsept Color 350 ml | C14: 1 | D14: opakowanie | E14: =F14*C14*(1+G14) -> 0
A15: 10. | B15: Spirytus czysty 250 ml | C15: 1 | D15: butelek | E15: =F15*C15*(1+G15) -> 0
A16: 11. | B16: Velodes soft wkład butelki 500 ml | C16: 1 | D16: sztuk | E16: =F16*C16*(1+G16) -> 0
A17: 12. | B17: Velox TOP AF - 1l | C17: 1 | D17: opakowań | E17: =F17*C17*(1+G17) -> 0
... A19: 14. | B19: Viruton Extra 1l | C19: 1 | D19: sztuk | E19: =F19*C19*(1+G19) -> 0
A20: SUMA | C20: =SUM(C5:C19) -> 14 | E20: =SUM(E5:E19) -> 0 | F20: =SUM(F5:F19) -> 0
A21: Podany asortyment oraz szacowana kwota są danymi planowanymi przez Zamawiającego na 12 miesięcy

Sheet ZADANIE 9
A1: ZAŁĄCZNIK NR 2
A2: WYKAZ ASORTYMENOWO – CENOWY
A3: ZADANIE 9 POZOSTAŁE MATERIAŁY MEDYCZNE DO BADAŃ DIAGNOSTYCZNYCH
A4: SZACOWANA KWOTA ZAMÓWIENIA: | H4: =PODSUMOWANIE!D13 -> 19800
A5: LP. | B5: TOWAR | C5: ILOŚĆ | D5: JEDN. | E5: CENA OFERTOWA BRUTTO (W PLN) | F5: CENA OFERTOWA NETTO (W PLN) | G5: PODATEK VAT W % | H5: UWAGI
A6: 1. | B6: BioGlo - Paski fluoresceinowe - 100sztuk | C6: 1 | D6: opakowanie | E6: =F6*C6*(1+G6) -> 0
A7: 2. | B7: Osłonki do usg ECOFUNDA Suche luzem śr. 34 mm - 200 sztuk | C7: 1 | D7: opakowanie | E7: =F7*C7*(1+G7) -> 0
A8: 3. | B8: Koperty RTG na kliszę 18 x 24 - 100 sztuk | C8: 1 | D8: opakowanie | E8: =F8*C8*(1+G8) -> 0
A9: 4. | B9: Koperty RTG na kliszę 18 x 43 - 100 sztuk | C9: 1 | D9: opakowanie | E9: =F9*C9*(1+G9) -> 0
A10: 5. | B10: Koperty RTG na kliszę 24 x 30 - 100 sztuk | C10: 1 | D10: opakowanie | E10: =F10*C10*(1+G10) -> 0
A11: 6. | B11: Koperty RTG na kliszę 35 x 35 - 100 sztuk | C11: 1 | D11: opakowanie | E11: =F11*C11*(1+G11) -> 0
A12: 7. | B12: Koperty RTG na kliszę 35 x 43 - 100 sztuk | C12: 1 | D12: opakowanie | E12: =F12*C12*(1+G12) -> 0
A13: 8. | B13: Koperty RTG na kliszę 5 x 7 - 100 sztuk | C13: 1 | D13: opakowanie | E13: =F13*C13*(1+G13) -> 0
A14: 9. | B14: Papier do EKG Aspel Acard A4 B56/Blue/Silver 112x25 | C14: 1 | D14: rolka | E14: =F14*C14*(1+G14) -> 0
A15: 10. | B15: Paski do glukometru 100 szt. ABRA | C15: 1 | D15: opakowanie | E15: =F15*C15*(1+G15) -> 0
A16: 11. | B16: Paski do glukometru 100 szt. Accu - Check | C16: 1 | D16: opakowanie | E16: =F16*C16*(1+G16) -> 0
A17: 12. | B17: Paski do pomiaru ph pochwy Mcolorp HAST | C17: 1 | D17: opakowanie | E17: =F17*C17*(1+G17) -> 0
... A22: 17. | B22: Żel do USG | C22: 1 | D22: sztuk | E22: =F22*C22*(1+G22) -> 0
A23: SUMA | C23: =SUM(C6:C22) -> 17 | E23: =SUM(E6:E22) -> 0 | F23: =SUM(F6:F22) -> 0
A24: Podany asortyment oraz szacowana kwota są danymi planowanymi przez Zamawiającego na 12 miesięcy

Sheet ZADANIE 10
A1: ZAŁĄCZNIK NR 2
A2: WYKAZ ASORTYMENOWO – CENOWY
A3: ZADANIE 10 POZOSTAŁY JEDNORAZOWY SPRZĘT I MATERIAŁY MEDYCZNE
A4: SZACOWANA KWOTA ZAMÓWIENIA: | H4: =PODSUMOWANIE!D14 -> 7400
A5: LP. | B5: TOWAR | C5: ILOŚĆ | D5: JEDN. | E5: CENA OFERTOWA BRUTTO (W PLN) | F5: CENA OFERTOWA NETTO (W PLN) | G5: PODATEK VAT W % | H5: UWAGI
A6: 1. | B6: Cewnik Foley ch 16 | C6: 1 | D6: sztuk | E6: =F6*C6*(1+G6) -> 0
A7: 2. | B7: Cewnik Foley ch 18 | C7: 1 | D7: sztuk | E7: =F7*C7*(1+G7) -> 0
A8: 3. | B8: Cewnik Foley ch 20 | C8: 1 | D8: sztuk | E8: =F8*C8*(1+G8) -> 0
A9: 4. | B9: Nakładka na butelkę Mini Spike Braun zielone | C9: 1 | D9: sztuk | E9: =F9*C9*(1+G9) -> 0
A10: 5. | B10: Ostrza chirurgiczna Nr 11 | C10: 1 | D10: opakowań | E10: =F10*C10*(1+G10) -> 0
A11: 6. | B11: Ostrza chirurgiczna Nr 12 | C11: 1 | D11: opakowań | E11: =F11*C11*(1+G11) -> 0
A12: 7. | B12: Ostrza chirurgiczna Nr 15 | C12: 1 | D12: opakowań | E12: =F12*C12*(1+G12) -> 0
A13: 8. | B13: Ostrza chirurgiczna Nr 20 | C13: 1 | D13: opakowań | E13: =F13*C13*(1+G13) -> 0
A14: 9. | B14: Pensety plastykowe | C14: 1 | D14: sztuk | E14: =F14*C14*(1+G14) -> 0
A15: 10. | B15: Pojemniki na odpady medyczne 0,2l | C15: 1 | D15: sztuk | E15: =F15*C15*(1+G15) -> 0
A16: 11. | B16: Pojemniki na odpady medyczne 0,7l | C16: 1 | D16: sztuk | E16: =F16*C16*(1+G16) -> 0
A17: 12. | B17: Pojemniki na odpady medyczne 1l wiaderka | C17: 1 | D17: sztuk | E17: =F17*C17*(1+G17) -> 0
... A40: 35. | B40: Zestawy do przetaczania płynów MARGOMED TYP IS | C40: 1 | D40: sztuk | E40: =F40*C40*(1+G40) -> 0
A41: SUMA | C41: =SUM(C6:C40) -> 35 | E41: =SUM(E6:E40) -> 0 | F41: =SUM(F6:F40) -> 0
A42: Podany asortyment oraz szacowana kwota są danymi planowanymi przez Zamawiającego na 12 miesięcy
