Workbook

Sheet PODSUMOWANIE
A1: ZAŁĄCZNIK NR 2
A2: WYKAZ ASORTYMENOWO – CENOWY
A3: PODSUMOWANIE OFERTY
A4: LP. | B4: NR ZADANIA | C4: NAZWA | D4: SZACOWANA KWOTA ZAMÓWIENIA | E4: CENA OFERTOWA BRUTTO (W PLN) | F4: CENA OFERTOWA BRUTTO (W PLN) | G4: OFEROWANY CZAS DOSTAWY W DNIACH
A5: 1. | B5: ZADANIE 1 | C5: LEKI | D5: 10400 | E5: ='ZADANIE 1'!E104 -> 0 | F5: =IF(E5<>0,E5,"X") -> X
A6: 2. | B6: ZADANIE 2a | C6: SZCZEPIONKI CZ.1 | D6: 40500 | E6: ='ZADANIE 2a'!E12 -> 0 | F6: =IF(E6<>0,E6,"X") -> X
A7: 3. | B7: ZADANIE 2b | C7: SZCZEPIONKI CZ.2 | D7: 40500 | E7: ='ZADANIE 2a'!E13 -> 0 | F7: =IF(E7<>0,E7,"X") -> X
A8: Podany asortyment oraz szacowana kwota są danymi planowanymi przez Zamawiającego na 12 miesięcy

Sheet ZADANIE 1
A1: ZAŁĄCZNIK NR 2
A2: WYKAZ ASORTYMENOWO – CENOWY
A3: ZADANIE 1 LEKI
A4: SZACOWANA KWOTA ZAMÓWIENIA: | H4: =PODSUMOWANIE!D5 -> 10400
A5: LP. | B5: TOWAR | C5: ILOŚĆ | D5: JEDN. | E5: CENA OFERTOWA BRUTTO (W PLN) | F5: CENA OFERTOWA NETTO (W PLN) | G5: PODATEK VAT W % | H5: UWAGI
A6: 1. | B6: Adrenalina 1mg/1ml | C6: 1 | D6: opakowanie | E6: =F6*C6*(1+G6) -> 0
A7: 2. | B7: Aethylum chloratum | C7: 1 | D7: opakowanie | E7: =F7*C7*(1+G7) -> 0
A8: 3. | B8: Alantan zasypka | C8: 1 | D8: opakowanie | E8: =F8*C8*(1+G8) -> 0
A9: 4. | B9: Alcaine, 5 mg/ml, krople do oczu, roztwór | C9: 1 | D9: sztuk | E9: =F9*C9*(1+G9) -> 0
A10: 5. | B10: Altacet żel | C10: 1 | D10: sztuk | E10: =F10*C10*(1+G10) -> 0
A11: 6. | B11: Apap | C11: 1 | D11: sztuk | E11: =F11*C11*(1+G11) -> 0
A12: 7. | B12: Aqua pro iniectione 100 amp po 10ml | C12: 1 | D12: opakowań | E12: =F12*C12*(1+G12) -> 0
A13: 8. | B13: Aqua pro iniectione 100 amp po 5ml | C13: 1 | D13: opakowań | E13: =F13*C13*(1+G13) -> 0
A14: 9. | B14: Argosulfan krem | C14: 1 | D14: opakowań | E14: =F14*C14*(1+G14) -> 0
A15: 10. | B15: Atropina amp | C15: 1 | D15: opakowanie | E15: =F15*C15*(1+G15) -> 0
A16: 11. | B16: Betaloc roztw. do wstrz. 5 amp (1mg/ml) | C16: 1 | D16: opakowanie | E16: =F16*C16*(1+G16) -> 0
A17: 12. | B17: Borasol 200g | C17: 1 | D17: opakowanie | E17: =F17*C17*(1+G17) -> 0
... A103: 98. | B103: Woda utleniona małe opakowania | C103: 1 | D103: opakowań | E103: =F103*C103*(1+G103) -> 0
A104: SUMA | C104: =SUM(C6:C103) -> 98 | E104: =SUM(E6:E103) -> 0 | F104: =SUM(F6:F103) -> 0
A105: Podany asortyment oraz szacowana kwota są danymi planowanymi przez Zamawiającego na 12 miesięcy

Sheet ZADANIE 2a
A1: ZAŁĄCZNIK NR 2
A2: WYKAZ ASORTYMENOWO – CENOWY
A3: ZADANIE 2 SZCZEPIONKI CZ.1
A4: SZACOWANA KWOTA ZAMÓWIENIA: | H4: =PODSUMOWANIE!D7 -> 40500
A5: LP. | B5: TOWAR | C5: ILOŚĆ | D5: JEDN. | E5: CENA OFERTOWA BRUTTO (W PLN) | F5: CENA OFERTOWA NETTO (W PLN) | G5: PODATEK VAT W % | H5: UWAGI
A6: 1. | B6: Euvax | C6: 1 | D6: opkaowań | E6: =F6*C6*(1+G6) -> 0
A7: 2. | B7: FSME - IMMUN 0,5 ml | C7: 1 | D7: opkaowań | E7: =F7*C7*(1+G7) -> 0
A8: 3. | B8: FSME - IMMUN 0,25 ml | C8: 1 | D8: opkaowań | E8: =F8*C8*(1+G8) -> 0
A9: 4. | B9: Hexacima | C9: 1 | D9: opkaowań | E9: =F9*C9*(1+G9) -> 0
A10: 5. | B10: Influvac | C10: 1 | D10: opkaowań | E10: =F10*C10*(1+G10) -> 0
A11: 6. | B11: Prevenar13 | C11: 1 | D11: opkaowań | E11: =F11*C11*(1+G11) -> 0
A12: 7. | B12: Vaxigrip | C12: 1 | D12: opkaowań | E12: =F12*C12*(1+G12) -> 0
A13: SUMA | C13: =SUM(C6:C12) -> 7 | E13: =SUM(E6:E12) -> 0 | F13: =SUM(F6:F12) -> 0
A14: Podany asortyment oraz szacowana kwota są danymi planowanymi przez Zamawiającego na 12 miesięcy

Sheet ZADANIE 2b
A1: ZAŁĄCZNIK NR 2
A2: WYKAZ ASORTYMENOWO – CENOWY
A3: ZADANIE 3 SZCZEPIONKI CZ.2
A4: SZACOWANA KWOTA ZAMÓWIENIA: | H4: =PODSUMOWANIE!D7 -> 40500
A5: LP. | B5: TOWAR | C5: ILOŚĆ | D5: JEDN. | E5: CENA OFERTOWA BRUTTO (W PLN) | F5: CENA OFERTOWA NETTO (W PLN) | G5: PODATEK VAT W % | H5: UWAGI
A6: 1. | B6: Bexero | C6: 1 | D6: opkaowań | E6: =F6*C6*(1+G6) -> 0
A7: 2. | B7: Rotarix | C7: 1 | D7: opkaowań | E7: =F7*C7*(1+G7) -> 0
A8: 3. | B8: Varilix | C8: 1 | D8: opkaowań | E8: =F8*C8*(1+G8) -> 0
A9: SUMA | C9: =SUM(C6:C8) -> 3 | E9: =SUM(E6:E8) -> 0 | F9: =SUM(F6:F8) -> 0
A10: Podany asortyment oraz szacowana kwota są danymi planowanymi przez Zamawiającego na 12 miesięcy
